BEGIN:VCALENDAR
VERSION:2.0
PRODID:KKTIX
CALSCALE:GREGORIAN
METHOD:PUBLISH
BEGIN:VTIMEZONE
TZID:Asia/Taipei
END:VTIMEZONE
BEGIN:VEVENT
DTSTAMP:20260420T032055Z
UID:6f38d795-54a1-4d7d-9961-33f01e549591
DTSTART:20260509T173000Z
DTEND:20260509T173000Z
CLASS:PUBLIC
DESCRIPTION:https://superhouseoffcial.kktix.cc/events/23ed80ad
LOCATION: (台中市南屯區大觀路161號) SUPERHOUSE NIGHTCLUB
SUMMARY: MARIE VAUNT — THE DARK ACID TOUR IN TAICHUNG
END:VEVENT
END:VCALENDAR
